Workbook

Sheet Tabela_2025
A1: Referência | B1: Preço | D1: Referência | E1: Preço | G1: Referência | H1: Preço | J1: Referência | K1: Preço | M1: MARGEM | N1: 0.9
D2: 25-7014-1 | E2: 15.65 | G2: 25-7031-1 | H2: 37 | J2: 25-7039-1 | K2: 41.25
A3: TAÇAS | D3: 25-7014-2 | E3: 17.6 | G3: 25-7031-2 | H3: 42.2 | J3: 25-7039-2 | K3: 42.45
D4: 25-7014-3 | E4: 19.55 | G4: 25-7031-3 | H4: 47.3 | J4: 25-7039-3 | K4: 52.75
A5: 25-7001-1 | B5: 42.3 | G5: 25-7031-4 | H5: 55.8 | J5: 25-7039-4 | K5: 53.95
A6: 25-7001-2 | B6: 43.65 | D6: 25-7015-1 | E6: 28.4 | G6: 25-7031-5 | H6: 61.4 | J6: 25-7039-5 | K6: 62.4
A7: 25-7001-3 | B7: 45.1 | D7: 25-7015-2 | E7: 31.7 | G7: 25-7031-6 | H7: 71.6 | J7: 25-7039-6 | K7: 63.9
A9: 25-7002-1 | B9: 30.3 | D9: 25-7016-1 | E9: 23.7 | G9: 25-7032-1 | H9: 119 | J9: 25-7039T-1 | K9: 47.85
A10: 25-7002-2 | B10: 36.25 | D10: 25-7016-2 | E10: 27.8 | G10: 25-7032-2 | H10: 123 | J10: 25-7039T-2 | K10: 49.05
A11: 25-7002-3 | B11: 43.2 | D11: 25-7016-3 | E11: 29.75 | G11: 25-7032-3 | H11: 127 | J11: 25-7039T-3 | K11: 63.6
G12: 25-7032-4 | H12: 131 | J12: 25-7039T-4 | K12: 64.8
A13: 25-7003-1 | B13: 35.15 | D13: 25-7017-1 | E13: 12 | J13: 25-7039T-5 | K13: 74.05
A14: 25-7003-2 | B14: 44.7 | D14: 25-7017-2 | E14: 16.25 | G14: 25-7033-1 | H14: 46.75 | J14: 25-7039T-6 | K14: 75.55
A15: 25-7003-3 | B15: 61.3 | D15: 25-7017-3 | E15: 18.2 | G15: 25-7033-2 | H15: 50.35
G16: 25-7033-3 | H16: 60.75 | J16: 25-7040-1 | K16: 14.85
A17: 25-7004-1 | B17: 29.8 | D17: 25-7018-1 | E17: 37.25 | G17: 25-7033-4 | H17: 62.75 | J17: 25-7040-2 | K17: 17.2
A18: 25-7004-2 | B18: 33.8 | D18: 25-7018-2 | E18: 44.4 | J18: 25-7040-3 | K18: 20.5
A19: 25-7004-3 | B19: 38.6 | G19: 25-7034-1 | H19: 21.3 | J19: 25-7040-4 | K19: 21.85
D20: 25-7019-1 | E20: 29 | G20: 25-7034-2 | H20: 23.95 | J20: 25-7040-5 | K20: 26.15
A21: 25-7005-1 | B21: 45.4 | D21: 25-7019-2 | E21: 30.8 | G21: 25-7034-3 | H21: 27.2
A22: 25-7005-2 | B22: 47.75 | D22: 25-7019-3 | E22: 32.3 | G22: 25-7034-4 | H22: 28.3 | J22: 25-7040T-1 | K22: 17.75
A23: 25-7005-3 | B23: 53.25 | J23: 25-7040T-2 | K23: 20.6
D24: 25-7020-1 | E24: 11.45 | G24: 25-7035-1 | H24: 48.15 | J24: 25-7040T-3 | K24: 24.85
A25: 25-7006-1 | B25: 24.35 | D25: 25-7020-2 | E25: 15.9 | G25: 25-7035-2 | H25: 59.35 | J25: 25-7040T-4 | K25: 26.2
A26: 25-7006-2 | B26: 26.2 | D26: 25-7020-3 | E26: 17.65 | G26: 25-7035-3 | H26: 69.85 | J26: 25-7040T-5 | K26: 31.3
A27: 25-7006-3 | B27: 32.8
D28: 25-7021-1 | E28: 14.6 | G28: 25-7036-1 | H28: 38.2 | J28: 25-7041-1 | K28: 17.4
A29: 25-7007-1 | B29: 63.5 | D29: 25-7021-2 | E29: 17.85 | G29: 25-7036-2 | H29: 49.4 | J29: 25-7041-2 | K29: 20.25
A30: 25-7007-2 | B30: 65 | D30: 25-7021-3 | E30: 20.85 | G30: 25-7036-3 | H30: 57.3 | J30: 25-7041-3 | K30: 25.95
A31: 25-7007-3 | B31: 66.5 | D31: 25-7021-4 | E31: 24.4 | J31: 25-7041-4 | K31: 27.7
G32: 25-7036T-1 | H32: 44.8 | J32: 25-7041-5 | K32: 30.3
A33: 25-7008-1 | B33: 22.15 | D33: 25-7022-1 | E33: 16.95 | G33: 25-7036T-2 | H33: 60.25 | J33: 25-7041-6 | K33: 32.35
A34: 25-7008-2 | B34: 23.55 | D34: 25-7022-2 | E34: 17.8 | G34: 25-7036T-3 | H34: 68.95
A35: 25-7008-3 | B35: 25 | D35: 25-7022-3 | E35: 19.7 | J35: 25-7042-1 | K35: 11.75
G36: 25-7037-1 | H36: 35.4 | J36: 25-7042-2 | K36: 12.8
A37: 25-7009-1 | B37: 26.5 | D37: 25-7023-1 | E37: 12.25 | G37: 25-7037-2 | H37: 45.45 | J37: 25-7042-3 | K37: 14.6
A38: 25-7009-2 | B38: 29.9 | D38: 25-7023-2 | E38: 16.75 | G38: 25-7037-3 | H38: 53.3 | J38: 25-7042-4 | K38: 15.65
A39: 25-7009-3 | B39: 35.35 | D39: 25-7023-3 | E39: 18.3 | J39: 25-7042-5 | K39: 18.8
G40: 25-7037T-1 | H40: 42 | J40: 25-7042-6 | K40: 23
A41: 25-7010-1 | B41: 17.55 | D41: 25-7024-1 | E41: 11.75 | G41: 25-7037T-2 | H41: 56.3
...

Sheet Tabela_2025_PVP
J1: QUADROS
J2: 25-7599-1 | K2: =IF(Tabela_2025!K668="","",(CEILING((Tabela_2025!K668*(1+Tabela_2025!$N$1)),0.05))) -> 144.4
K3: =IF(Tabela_2025!K669="","",(CEILING((Tabela_2025!K669*(1+Tabela_2025!$N$1)),0.05)))
J4: 25-7600-1 | K4: =IF(Tabela_2025!K670="","",(CEILING((Tabela_2025!K670*(1+Tabela_2025!$N$1)),0.05))) -> 229.9
K5: =IF(Tabela_2025!K671="","",(CEILING((Tabela_2025!K671*(1+Tabela_2025!$N$1)),0.05)))
J6: 25-7601-1 | K6: =IF(Tabela_2025!K672="","",(CEILING((Tabela_2025!K672*(1+Tabela_2025!$N$1)),0.05))) -> 16.35
K7: =IF(Tabela_2025!K673="","",(CEILING((Tabela_2025!K673*(1+Tabela_2025!$N$1)),0.05)))
J8: 25-7602-1 | K8: =IF(Tabela_2025!K674="","",(CEILING((Tabela_2025!K674*(1+Tabela_2025!$N$1)),0.05))) -> 29.85
J9: 25-7602-2 | K9: =IF(Tabela_2025!K675="","",(CEILING((Tabela_2025!K675*(1+Tabela_2025!$N$1)),0.05))) -> 32.3
J10: 25-7602-3 | K10: =IF(Tabela_2025!K676="","",(CEILING((Tabela_2025!K676*(1+Tabela_2025!$N$1)),0.05))) -> 36.6
J12: SALVAS
J13: 25-7603-1 | K13: =IF(Tabela_2025!K679="","",(CEILING((Tabela_2025!K679*(1+Tabela_2025!$N$1)),0.05))) -> 76.6
J14: 25-7603-2 | K14: =IF(Tabela_2025!K680="","",(CEILING((Tabela_2025!K680*(1+Tabela_2025!$N$1)),0.05))) -> 90.25
J15: 25-7603-3 | K15: =IF(Tabela_2025!K681="","",(CEILING((Tabela_2025!K681*(1+Tabela_2025!$N$1)),0.05))) -> 106.4
K16: =IF(Tabela_2025!K682="","",(CEILING((Tabela_2025!K682*(1+Tabela_2025!$N$1)),0.05)))
J17: 25-7604-1 | K17: =IF(Tabela_2025!K683="","",(CEILING((Tabela_2025!K683*(1+Tabela_2025!$N$1)),0.05))) -> 36.3
J18: 25-7604-2 | K18: =IF(Tabela_2025!K684="","",(CEILING((Tabela_2025!K684*(1+Tabela_2025!$N$1)),0.05))) -> 61.5
K19: =IF(Tabela_2025!K685="","",(CEILING((Tabela_2025!K685*(1+Tabela_2025!$N$1)),0.05)))
J20: 25-7605-1 | K20: =IF(Tabela_2025!K686="","",(CEILING((Tabela_2025!K686*(1+Tabela_2025!$N$1)),0.05))) -> 10.85
J21: 25-7605-2 | K21: =IF(Tabela_2025!K687="","",(CEILING((Tabela_2025!K687*(1+Tabela_2025!$N$1)),0.05))) -> 13.8
J22: 25-7605-3 | K22: =IF(Tabela_2025!K688="","",(CEILING((Tabela_2025!K688*(1+Tabela_2025!$N$1)),0.05))) -> 17.5
K23: =IF(Tabela_2025!K689="","",(CEILING((Tabela_2025!K689*(1+Tabela_2025!$N$1)),0.05)))
J24: 25-7606-1 | K24: =IF(Tabela_2025!K690="","",(CEILING((Tabela_2025!K690*(1+Tabela_2025!$N$1)),0.05))) -> 10.4
J25: 25-7606-2 | K25: =IF(Tabela_2025!K691="","",(CEILING((Tabela_2025!K691*(1+Tabela_2025!$N$1)),0.05))) -> 13.9
J26: 25-7606-3 | K26: =IF(Tabela_2025!K692="","",(CEILING((Tabela_2025!K692*(1+Tabela_2025!$N$1)),0.05))) -> 17.7
J27: 25-7606-4 | K27: =IF(Tabela_2025!K693="","",(CEILING((Tabela_2025!K693*(1+Tabela_2025!$N$1)),0.05))) -> 23.75
K28: =IF(Tabela_2025!K694="","",(CEILING((Tabela_2025!K694*(1+Tabela_2025!$N$1)),0.05)))
J29: 25-7607-1 | K29: =IF(Tabela_2025!K695="","",(CEILING((Tabela_2025!K695*(1+Tabela_2025!$N$1)),0.05))) -> 13.25
J30: 25-7607-2 | K30: =IF(Tabela_2025!K696="","",(CEILING((Tabela_2025!K696*(1+Tabela_2025!$N$1)),0.05))) -> 20.45
J31: 25-7607-3 | K31: =IF(Tabela_2025!K697="","",(CEILING((Tabela_2025!K697*(1+Tabela_2025!$N$1)),0.05))) -> 27.3
A32: Referência | B32: Preço | D32: Referência | E32: Preço | G32: Referência | H32: Preço | J32: Referência | K32: Preço
A33: 25-7608-1 | B33: =IF(Tabela_2025!B699="","",(CEILING((Tabela_2025!B699*(1+Tabela_2025!$N$1)),0.05))) -> 18.15 | D33: 25-7624-1 | E33: =IF(Tabela_2025!E699="","",(CEILING((Tabela_2025!E699*(1+Tabela_2025!$N$1)),0.05))) -> 29.4 | G33: 25-7642-1 | H33: =IF(Tabela_2025!H699="","",(CEILING((Tabela_2025!H699*(1+Tabela_2025!$N$1)),0.05))) -> 4.1
A34: 25-7608-2 | B34: =IF(Tabela_2025!B700="","",(CEILING((Tabela_2025!B700*(1+Tabela_2025!$N$1)),0.05))) -> 29.4 | E34: =IF(Tabela_2025!E700="","",(CEILING((Tabela_2025!E700*(1+Tabela_2025!$N$1)),0.05))) | G34: 25-7642-2 | H34: =IF(Tabela_2025!H700="","",(CEILING((Tabela_2025!H700*(1+Tabela_2025!$N$1)),0.05))) -> 5.7 | J34: PLACAS C/CARTEIRA,
A35: 25-7608-3 | B35: =IF(Tabela_2025!B701="","",(CEILING((Tabela_2025!B701*(1+Tabela_2025!$N$1)),0.05))) -> 48.65 | D35: 25-7625-1 | E35: =IF(Tabela_2025!E701="","",(CEILING((Tabela_2025!E701*(1+Tabela_2025!$N$1)),0.05))) -> 21 | G35: 25-7642-3 | H35: =IF(Tabela_2025!H701="","",(CEILING((Tabela_2025!H701*(1+Tabela_2025!$N$1)),0.05))) -> 6.65 | J35: OU C/ ESTOJO
B36: =IF(Tabela_2025!B702="","",(CEILING((Tabela_2025!B702*(1+Tabela_2025!$N$1)),0.05))) | E36: =IF(Tabela_2025!E702="","",(CEILING((Tabela_2025!E702*(1+Tabela_2025!$N$1)),0.05))) | H36: =IF(Tabela_2025!H702="","",(CEILING((Tabela_2025!H702*(1+Tabela_2025!$N$1)),0.05))) | K36: =IF(Tabela_2025!K702="","",(CEILING((Tabela_2025!K702*(1+Tabela_2025!$N$1)),0.05)))
A37: 25-7609-1 | B37: =IF(Tabela_2025!B703="","",(CEILING((Tabela_2025!B703*(1+Tabela_2025!$N$1)),0.05))) -> 10.4 | D37: 25-7626-1 | E37: =IF(Tabela_2025!E703="","",(CEILING((Tabela_2025!E703*(1+Tabela_2025!$N$1)),0.05))) -> 24.9 | G37: 25-7643-1 | H37: =IF(Tabela_2025!H703="","",(CEILING((Tabela_2025!H703*(1+Tabela_2025!$N$1)),0.05))) -> 4.1 | J37: 25-7657-1 | K37: =IF(Tabela_2025!K703="","",(CEILING((Tabela_2025!K703*(1+Tabela_2025!$N$1)),0.05))) -> 10.2
A38: 25-7609-2 | B38: =IF(Tabela_2025!B704="","",(CEILING((Tabela_2025!B704*(1+Tabela_2025!$N$1)),0.05))) -> 18.15 | D38: 25-7626-2 | E38: =IF(Tabela_2025!E704="","",(CEILING((Tabela_2025!E704*(1+Tabela_2025!$N$1)),0.05))) -> 43.15 | G38: 25-7643-2 | H38: =IF(Tabela_2025!H704="","",(CEILING((Tabela_2025!H704*(1+Tabela_2025!$N$1)),0.05))) -> 5.7 | K38: =IF(Tabela_2025!K704="","",(CEILING((Tabela_2025!K704*(1+Tabela_2025!$N$1)),0.05)))
A39: 25-7609-3 | B39: =IF(Tabela_2025!B705="","",(CEILING((Tabela_2025!B705*(1+Tabela_2025!$N$1)),0.05))) -> 29.3 | E39: =IF(Tabela_2025!E705="","",(CEILING((Tabela_2025!E705*(1+Tabela_2025!$N$1)),0.05))) | G39: 25-7643-3 | H39: =IF(Tabela_2025!H705="","",(CEILING((Tabela_2025!H705*(1+Tabela_2025!$N$1)),0.05))) -> 6.65 | J39: 25-7658-1 | K39: =IF(Tabela_2025!K705="","",(CEILING((Tabela_2025!K705*(1+Tabela_2025!$N$1)),0.05))) -> 10.45
A40: 25-7609-4 | B40: =IF(Tabela_2025!B706="","",(CEILING((Tabela_2025!B706*(1+Tabela_2025!$N$1)),0.05))) -> 48.65 | D40: 25-7627-1 | E40: =IF(Tabela_2025!E706="","",(CEILING((Tabela_2025!E706*(1+Tabela_2025!$N$1)),0.05))) -> 22.75 | H40: =IF(Tabela_2025!H706="","",(CEILING((Tabela_2025!H706*(1+Tabela_2025!$N$1)),0.05))) | K40: =IF(Tabela_2025!K706="","",(CEILING((Tabela_2025!K706*(1+Tabela_2025!$N$1)),0.05)))
B41: =IF(Tabela_2025!B707="","",(CEILING((Tabela_2025!B707*(1+Tabela_2025!$N$1)),0.05))) | D41: 25-7627-2 | E41: =IF(Tabela_2025!E707="","",(CEILING((Tabela_2025!E707*(1+Tabela_2025!$N$1)),0.05))) -> 34.8 | G41: 25-7644-1 | H41: =IF(Tabela_2025!H707="","",(CEILING((Tabela_2025!H707*(1+Tabela_2025!$N$1)),0.05))) -> 4.1 | J41: 25-7659-1 | K41: =IF(Tabela_2025!K707="","",(CEILING((Tabela_2025!K707*(1+Tabela_2025!$N$1)),0.05))) -> 10.2
...
